BEGIN:VCALENDAR
VERSION:2.0
PRODID:-//Martin Family Wineries &amp; Distilleries - ECPv6.15.17.1//NONSGML v1.0//EN
CALSCALE:GREGORIAN
METHOD:PUBLISH
X-ORIGINAL-URL:https://mfwineriesdistilleries.com
X-WR-CALDESC:Events for Martin Family Wineries &amp; Distilleries
REFRESH-INTERVAL;VALUE=DURATION:PT1H
X-Robots-Tag:noindex
X-PUBLISHED-TTL:PT1H
BEGIN:VTIMEZONE
TZID:America/New_York
BEGIN:DAYLIGHT
TZOFFSETFROM:-0500
TZOFFSETTO:-0400
TZNAME:EDT
DTSTART:20240310T070000
END:DAYLIGHT
BEGIN:STANDARD
TZOFFSETFROM:-0400
TZOFFSETTO:-0500
TZNAME:EST
DTSTART:20241103T060000
END:STANDARD
BEGIN:DAYLIGHT
TZOFFSETFROM:-0500
TZOFFSETTO:-0400
TZNAME:EDT
DTSTART:20250309T070000
END:DAYLIGHT
BEGIN:STANDARD
TZOFFSETFROM:-0400
TZOFFSETTO:-0500
TZNAME:EST
DTSTART:20251102T060000
END:STANDARD
BEGIN:DAYLIGHT
TZOFFSETFROM:-0500
TZOFFSETTO:-0400
TZNAME:EDT
DTSTART:20260308T070000
END:DAYLIGHT
BEGIN:STANDARD
TZOFFSETFROM:-0400
TZOFFSETTO:-0500
TZNAME:EST
DTSTART:20261101T060000
END:STANDARD
END:VTIMEZONE
BEGIN:VEVENT
DTSTART;VALUE=DATE:20250306
DTEND;VALUE=DATE:20250318
DTSTAMP:20260424T133610
CREATED:20250306T125219Z
LAST-MODIFIED:20250326T142919Z
UID:10000426-1741219200-1742255999@mfwineriesdistilleries.com
SUMMARY:Girl Scout Cookie Pairing
DESCRIPTION:This month\, while supplies (aka cookies) last\, enjoy a specialty pairing with your favorite Girl Scout cookies perfectly matched up with our wines and spirits! This delicious pairing costs $17!
URL:https://mfwineriesdistilleries.com/event/girl-scout-cookie-pairing/2025-03-06/
LOCATION:Montezuma Winery Old Forge\, 3050 NY-28\, Old Forge\, New York\, 13420
CATEGORIES:Montezuma Old Forge
ATTACH;FMTTYPE=image/png:https://mfwineriesdistilleries.com/wp-content/uploads/2025/03/MF_Website-Graphic-Template-7.png
END:VEVENT
BEGIN:VEVENT
DTSTART;VALUE=DATE:20250307
DTEND;VALUE=DATE:20250319
DTSTAMP:20260424T133610
CREATED:20250306T125219Z
LAST-MODIFIED:20250326T142919Z
UID:10000427-1741305600-1742342399@mfwineriesdistilleries.com
SUMMARY:Girl Scout Cookie Pairing
DESCRIPTION:This month\, while supplies (aka cookies) last\, enjoy a specialty pairing with your favorite Girl Scout cookies perfectly matched up with our wines and spirits! This delicious pairing costs $17!
URL:https://mfwineriesdistilleries.com/event/girl-scout-cookie-pairing/2025-03-07/
LOCATION:Montezuma Winery Old Forge\, 3050 NY-28\, Old Forge\, New York\, 13420
CATEGORIES:Montezuma Old Forge
ATTACH;FMTTYPE=image/png:https://mfwineriesdistilleries.com/wp-content/uploads/2025/03/MF_Website-Graphic-Template-7.png
END:VEVENT
BEGIN:VEVENT
DTSTART;VALUE=DATE:20250308
DTEND;VALUE=DATE:20250320
DTSTAMP:20260424T133610
CREATED:20250306T125219Z
LAST-MODIFIED:20250326T142919Z
UID:10000428-1741392000-1742428799@mfwineriesdistilleries.com
SUMMARY:Girl Scout Cookie Pairing
DESCRIPTION:This month\, while supplies (aka cookies) last\, enjoy a specialty pairing with your favorite Girl Scout cookies perfectly matched up with our wines and spirits! This delicious pairing costs $17!
URL:https://mfwineriesdistilleries.com/event/girl-scout-cookie-pairing/2025-03-08/
LOCATION:Montezuma Winery Old Forge\, 3050 NY-28\, Old Forge\, New York\, 13420
CATEGORIES:Montezuma Old Forge
ATTACH;FMTTYPE=image/png:https://mfwineriesdistilleries.com/wp-content/uploads/2025/03/MF_Website-Graphic-Template-7.png
END:VEVENT
BEGIN:VEVENT
DTSTART;VALUE=DATE:20250309
DTEND;VALUE=DATE:20250321
DTSTAMP:20260424T133610
CREATED:20250306T125219Z
LAST-MODIFIED:20250326T142919Z
UID:10000429-1741478400-1742515199@mfwineriesdistilleries.com
SUMMARY:Girl Scout Cookie Pairing
DESCRIPTION:This month\, while supplies (aka cookies) last\, enjoy a specialty pairing with your favorite Girl Scout cookies perfectly matched up with our wines and spirits! This delicious pairing costs $17!
URL:https://mfwineriesdistilleries.com/event/girl-scout-cookie-pairing/2025-03-09/
LOCATION:Montezuma Winery Old Forge\, 3050 NY-28\, Old Forge\, New York\, 13420
CATEGORIES:Montezuma Old Forge
ATTACH;FMTTYPE=image/png:https://mfwineriesdistilleries.com/wp-content/uploads/2025/03/MF_Website-Graphic-Template-7.png
END:VEVENT
BEGIN:VEVENT
DTSTART;VALUE=DATE:20250310
DTEND;VALUE=DATE:20250322
DTSTAMP:20260424T133610
CREATED:20250306T125219Z
LAST-MODIFIED:20250326T142919Z
UID:10000430-1741564800-1742597999@mfwineriesdistilleries.com
SUMMARY:Girl Scout Cookie Pairing
DESCRIPTION:This month\, while supplies (aka cookies) last\, enjoy a specialty pairing with your favorite Girl Scout cookies perfectly matched up with our wines and spirits! This delicious pairing costs $17!
URL:https://mfwineriesdistilleries.com/event/girl-scout-cookie-pairing/2025-03-10/
LOCATION:Montezuma Winery Old Forge\, 3050 NY-28\, Old Forge\, New York\, 13420
CATEGORIES:Montezuma Old Forge
ATTACH;FMTTYPE=image/png:https://mfwineriesdistilleries.com/wp-content/uploads/2025/03/MF_Website-Graphic-Template-7.png
END:VEVENT
BEGIN:VEVENT
DTSTART;VALUE=DATE:20250311
DTEND;VALUE=DATE:20250323
DTSTAMP:20260424T133610
CREATED:20250306T125219Z
LAST-MODIFIED:20250326T142919Z
UID:10000431-1741651200-1742684399@mfwineriesdistilleries.com
SUMMARY:Girl Scout Cookie Pairing
DESCRIPTION:This month\, while supplies (aka cookies) last\, enjoy a specialty pairing with your favorite Girl Scout cookies perfectly matched up with our wines and spirits! This delicious pairing costs $17!
URL:https://mfwineriesdistilleries.com/event/girl-scout-cookie-pairing/2025-03-11/
LOCATION:Montezuma Winery Old Forge\, 3050 NY-28\, Old Forge\, New York\, 13420
CATEGORIES:Montezuma Old Forge
ATTACH;FMTTYPE=image/png:https://mfwineriesdistilleries.com/wp-content/uploads/2025/03/MF_Website-Graphic-Template-7.png
END:VEVENT
BEGIN:VEVENT
DTSTART;VALUE=DATE:20250312
DTEND;VALUE=DATE:20250324
DTSTAMP:20260424T133610
CREATED:20250306T125219Z
LAST-MODIFIED:20250326T142919Z
UID:10000432-1741737600-1742770799@mfwineriesdistilleries.com
SUMMARY:Girl Scout Cookie Pairing
DESCRIPTION:This month\, while supplies (aka cookies) last\, enjoy a specialty pairing with your favorite Girl Scout cookies perfectly matched up with our wines and spirits! This delicious pairing costs $17!
URL:https://mfwineriesdistilleries.com/event/girl-scout-cookie-pairing/2025-03-12/
LOCATION:Montezuma Winery Old Forge\, 3050 NY-28\, Old Forge\, New York\, 13420
CATEGORIES:Montezuma Old Forge
ATTACH;FMTTYPE=image/png:https://mfwineriesdistilleries.com/wp-content/uploads/2025/03/MF_Website-Graphic-Template-7.png
END:VEVENT
END:VCALENDAR