BEGIN:VCALENDAR
VERSION:2.0
PRODID:-//Martin Family Wineries &amp; Distilleries - ECPv6.15.17.1//NONSGML v1.0//EN
CALSCALE:GREGORIAN
METHOD:PUBLISH
X-WR-CALNAME:Martin Family Wineries &amp; Distilleries
X-ORIGINAL-URL:https://mfwineriesdistilleries.com
X-WR-CALDESC:Events for Martin Family Wineries &amp; Distilleries
REFRESH-INTERVAL;VALUE=DURATION:PT1H
X-Robots-Tag:noindex
X-PUBLISHED-TTL:PT1H
BEGIN:VTIMEZONE
TZID:America/New_York
BEGIN:DAYLIGHT
TZOFFSETFROM:-0500
TZOFFSETTO:-0400
TZNAME:EDT
DTSTART:20240310T070000
END:DAYLIGHT
BEGIN:STANDARD
TZOFFSETFROM:-0400
TZOFFSETTO:-0500
TZNAME:EST
DTSTART:20241103T060000
END:STANDARD
BEGIN:DAYLIGHT
TZOFFSETFROM:-0500
TZOFFSETTO:-0400
TZNAME:EDT
DTSTART:20250309T070000
END:DAYLIGHT
BEGIN:STANDARD
TZOFFSETFROM:-0400
TZOFFSETTO:-0500
TZNAME:EST
DTSTART:20251102T060000
END:STANDARD
BEGIN:DAYLIGHT
TZOFFSETFROM:-0500
TZOFFSETTO:-0400
TZNAME:EDT
DTSTART:20260308T070000
END:DAYLIGHT
BEGIN:STANDARD
TZOFFSETFROM:-0400
TZOFFSETTO:-0500
TZNAME:EST
DTSTART:20261101T060000
END:STANDARD
END:VTIMEZONE
BEGIN:VEVENT
DTSTART;VALUE=DATE:20250326
DTEND;VALUE=DATE:20250501
DTSTAMP:20260424T115001
CREATED:20250326T154032Z
LAST-MODIFIED:20250326T154552Z
UID:10000464-1742947200-1746057599@mfwineriesdistilleries.com
SUMMARY:Ferment to be Wild: Local Culture Pairing
DESCRIPTION:Dive into the inspiration and craft behind our Local Culture series\, featuring natural-inspired wines produced using a pied de cuve wild yeast fermentation created by our Winemakers. Also featured in this pairing is local light-bite food to enhance the unique flavors of the wines. This special pairing costs $20 \nAre you Ferment to be Wild? \n  \n 
URL:https://mfwineriesdistilleries.com/event/ferment-to-be-wild-local-culture-pairing/
LOCATION:Idol Ridge Winery\, 9059 State Route 414\, Lodi\, NY\, 14860\, United States
CATEGORIES:Idol Ridge
ATTACH;FMTTYPE=image/png:https://mfwineriesdistilleries.com/wp-content/uploads/2025/03/MF_Website-Graphic-Template-18.png
END:VEVENT
BEGIN:VEVENT
DTSTART;VALUE=DATE:20250413
DTEND;VALUE=DATE:20250420
DTSTAMP:20260424T115001
CREATED:20250407T201207Z
LAST-MODIFIED:20250407T201734Z
UID:10000469-1744502400-1745107199@mfwineriesdistilleries.com
SUMMARY:7 Days Of Sips
DESCRIPTION:Get ready for 7 days of exceptional specials in our tasting room! From amazing deals on glasses of wine and wine slushies\,  we’re celebrating all things fun sips with a week-long event you won’t want to miss. Deals are available all day from April 13th to April 19th. \nMark your calendars for these special days: \nSparkling Sunday: All sparkling  wines just $5 a glass \nMoscato Mondays: $5 glasses of Moscato \nTwisted Tuesday: Get a twisted slushie in a confetti cup for just $7! \nWhiskey Wednesday: Get a free snifter when you taste 3 of our whiskeys \nThirsty Thursday: $2 off any glass of wine \nFat Frog Friday: $5 glasses of all Fat Frog Wines \nSlushie Saturday: $15 tumbler with $7 tumbler refills and $8 confetti cup with $5 refills \n  \n 
URL:https://mfwineriesdistilleries.com/event/7-days-of-sips/
LOCATION:Montezuma Winery Finger Lakes\, 2981 US Route 20\, Seneca Falls\, NY\, United States
CATEGORIES:Montezuma Finger Lakes
ATTACH;FMTTYPE=image/png:https://mfwineriesdistilleries.com/wp-content/uploads/2025/04/MF_Website-Graphic-Template-22.png
END:VEVENT
BEGIN:VEVENT
DTSTART;TZID=America/New_York:20250419T090000
DTEND;TZID=America/New_York:20250419T180000
DTSTAMP:20260424T115001
CREATED:20250321T195559Z
LAST-MODIFIED:20250417T121348Z
UID:10000460-1745053200-1745085600@mfwineriesdistilleries.com
SUMMARY:Bunny Brunch
DESCRIPTION:Get ready to hop into our tasting room on April 19th for a day filled with fun & festive Easter specials!\nAll day long\, enjoy the following Bunny Brunch specials:• Mimosa buckets• Pretty In Pink Peep cocktail• Locally brewed coffee & muffins• Purchase a wine or spirit tasting\, and pick an Easter egg for a free gift• Specialty BBQ Pork naan flatbread pizza from our kitchen\n\nPlus\, when you purchase a wine & spirit tasting\, you will receive an Easter egg with a free goodie inside!\n\nWe hop to see you there! 
URL:https://mfwineriesdistilleries.com/event/bunny-brunch/
LOCATION:Montezuma Winery Finger Lakes\, 2981 US Route 20\, Seneca Falls\, NY\, United States
CATEGORIES:Montezuma Finger Lakes
ATTACH;FMTTYPE=image/png:https://mfwineriesdistilleries.com/wp-content/uploads/2025/03/MF_Website-Graphic-Template-14.png
END:VEVENT
BEGIN:VEVENT
DTSTART;TZID=America/New_York:20250419T100000
DTEND;TZID=America/New_York:20250419T170000
DTSTAMP:20260424T115001
CREATED:20250328T141655Z
LAST-MODIFIED:20250403T173322Z
UID:10000467-1745056800-1745082000@mfwineriesdistilleries.com
SUMMARY:Adult Easter Egg Hunt
DESCRIPTION:Visit our tasting room on April 18th and 19th for our first-ever Adult Easter Egg Hunt! We will have eggs hidden around our tasting room\, each with a special deal inside. Find an egg and crack it open to discover a fun surprise.\n\nAn Adult Easter Egg Hunt isn’t complete without a glass of wine or cocktail in hand. Sip & search to find your prize.
URL:https://mfwineriesdistilleries.com/event/adult-easter-egg-hunt/2025-04-19/
LOCATION:Idol Ridge Winery\, 9059 State Route 414\, Lodi\, NY\, 14860\, United States
CATEGORIES:Idol Ridge
ATTACH;FMTTYPE=image/png:https://mfwineriesdistilleries.com/wp-content/uploads/2025/03/MF_Website-Graphic-Template-19.png
END:VEVENT
BEGIN:VEVENT
DTSTART;TZID=America/New_York:20250419T130000
DTEND;TZID=America/New_York:20250419T150000
DTSTAMP:20260424T115001
CREATED:20250321T134435Z
LAST-MODIFIED:20250326T153002Z
UID:10000456-1745067600-1745074800@mfwineriesdistilleries.com
SUMMARY:Live Music at the Coop: Khalil Jade
DESCRIPTION:Join us for an afternoon filled with good vibes\, good drinks\, and of course live music! On April 19th\, Khalil Jade will be at our tasting room performing live music from 1pm-3pm.
URL:https://mfwineriesdistilleries.com/event/live-music-at-the-coop-khalil-jade/
LOCATION:Montezuma Winery Cooperstown\, 4841 NY-28\, Cooperstown\, NY\, 13326\, United States
CATEGORIES:Montezuma Cooperstown
ATTACH;FMTTYPE=image/png:https://mfwineriesdistilleries.com/wp-content/uploads/2025/03/MF_Website-Graphic-Template-11.png
END:VEVENT
END:VCALENDAR