BEGIN:VCALENDAR
VERSION:2.0
PRODID:-//Martin Family Wineries &amp; Distilleries - ECPv6.15.17.1//NONSGML v1.0//EN
CALSCALE:GREGORIAN
METHOD:PUBLISH
X-ORIGINAL-URL:https://mfwineriesdistilleries.com
X-WR-CALDESC:Events for Martin Family Wineries &amp; Distilleries
REFRESH-INTERVAL;VALUE=DURATION:PT1H
X-Robots-Tag:noindex
X-PUBLISHED-TTL:PT1H
BEGIN:VTIMEZONE
TZID:America/New_York
BEGIN:DAYLIGHT
TZOFFSETFROM:-0500
TZOFFSETTO:-0400
TZNAME:EDT
DTSTART:20240310T070000
END:DAYLIGHT
BEGIN:STANDARD
TZOFFSETFROM:-0400
TZOFFSETTO:-0500
TZNAME:EST
DTSTART:20241103T060000
END:STANDARD
BEGIN:DAYLIGHT
TZOFFSETFROM:-0500
TZOFFSETTO:-0400
TZNAME:EDT
DTSTART:20250309T070000
END:DAYLIGHT
BEGIN:STANDARD
TZOFFSETFROM:-0400
TZOFFSETTO:-0500
TZNAME:EST
DTSTART:20251102T060000
END:STANDARD
BEGIN:DAYLIGHT
TZOFFSETFROM:-0500
TZOFFSETTO:-0400
TZNAME:EDT
DTSTART:20260308T070000
END:DAYLIGHT
BEGIN:STANDARD
TZOFFSETFROM:-0400
TZOFFSETTO:-0500
TZNAME:EST
DTSTART:20261101T060000
END:STANDARD
END:VTIMEZONE
BEGIN:VEVENT
DTSTART;TZID=America/New_York:20250501T090000
DTEND;TZID=America/New_York:20250511T180000
DTSTAMP:20260424T102021
CREATED:20250423T171701Z
LAST-MODIFIED:20250423T171701Z
UID:10000475-1746090000-1746986400@mfwineriesdistilleries.com
SUMMARY:Nurse's Appreciation Week
DESCRIPTION:Calling all nurses and health care staff! We’re celebrating National Nurses Week from May 1st- May 11th with BOGO wine & spirit tastings! Just show us a valid ID to get the special deal.
URL:https://mfwineriesdistilleries.com/event/nurses-appreciation-week/
LOCATION:Montezuma Winery Finger Lakes\, 2981 US Route 20\, Seneca Falls\, NY\, United States
CATEGORIES:Montezuma Finger Lakes
ATTACH;FMTTYPE=image/png:https://mfwineriesdistilleries.com/wp-content/uploads/2025/04/MF_Website-Graphic-Template-23.png
END:VEVENT
BEGIN:VEVENT
DTSTART;TZID=America/New_York:20250510T100000
DTEND;TZID=America/New_York:20250510T160000
DTSTAMP:20260424T102021
CREATED:20250404T124115Z
LAST-MODIFIED:20250818T183003Z
UID:10000468-1746871200-1746892800@mfwineriesdistilleries.com
SUMMARY:Cooperstown Beverage Trail - Booze & Cruise Trolley Tour
DESCRIPTION:SOLD OUT\nTaste along the Cooperstown Beverage Trail with our Booze & Cruise Trolley Tour on Saturday\, May 10th! Montezuma Winery & Hidden Marsh Distillery\, along with the other members of the trail\, have partnered with Leatherstocking Trolley to give you a fun day out on the trail! Our beverage trail has an assortment of tasting rooms offering wine\, beer\, cider\, and spirits. \nTickets are just $99 per person and include tastings/flights at each stop plus trolley transportation along the trail. Food and snacks will be available for purchase in member tasting rooms. \nThe tour starts at 10am with an approximate end time of 4pm. Pick up and drop off is at Brewery Ommegang located at 656 Co Hwy 33\, Cooperstown\, NY 13326. Please park in the grass-field lot. \nThe order of stops is as follows: \n1) Pail Shop Vineyards \n2) Fly Creek Cider Mill \n3) Rustic Ridge Winery \n4) High Burl Brewery \n5) Montezuma Winery & Hidden Marsh Distillery \n6) Cooperstown Brewing \n7) Northway Brewing Hop House \n8) Brewery Ommegang \nPlease note this tour is for those 21+. A minimum of 12 participants are needed to host the trolley tour. If the minimum is not reached\, the tour will be canceled and tickets will be refunded. \n  \nPurchase Tickets Here
URL:https://mfwineriesdistilleries.com/event/cooperstown-beverage-trail-booze-cruise-trolley-tour/
LOCATION:Brewery Ommegang\, 656 Co Hwy 33\, Cooperstown\, NY\, 13326\, United States
CATEGORIES:Montezuma Cooperstown
ATTACH;FMTTYPE=image/png:https://mfwineriesdistilleries.com/wp-content/uploads/2025/04/MF_Website-Graphic-Template-21.png
END:VEVENT
END:VCALENDAR