BEGIN:VCALENDAR
VERSION:2.0
PRODID:-//Martin Family Wineries &amp; Distilleries - ECPv6.15.17.1//NONSGML v1.0//EN
CALSCALE:GREGORIAN
METHOD:PUBLISH
X-WR-CALNAME:Martin Family Wineries &amp; Distilleries
X-ORIGINAL-URL:https://mfwineriesdistilleries.com
X-WR-CALDESC:Events for Martin Family Wineries &amp; Distilleries
REFRESH-INTERVAL;VALUE=DURATION:PT1H
X-Robots-Tag:noindex
X-PUBLISHED-TTL:PT1H
BEGIN:VTIMEZONE
TZID:America/New_York
BEGIN:DAYLIGHT
TZOFFSETFROM:-0500
TZOFFSETTO:-0400
TZNAME:EDT
DTSTART:20240310T070000
END:DAYLIGHT
BEGIN:STANDARD
TZOFFSETFROM:-0400
TZOFFSETTO:-0500
TZNAME:EST
DTSTART:20241103T060000
END:STANDARD
BEGIN:DAYLIGHT
TZOFFSETFROM:-0500
TZOFFSETTO:-0400
TZNAME:EDT
DTSTART:20250309T070000
END:DAYLIGHT
BEGIN:STANDARD
TZOFFSETFROM:-0400
TZOFFSETTO:-0500
TZNAME:EST
DTSTART:20251102T060000
END:STANDARD
BEGIN:DAYLIGHT
TZOFFSETFROM:-0500
TZOFFSETTO:-0400
TZNAME:EDT
DTSTART:20260308T070000
END:DAYLIGHT
BEGIN:STANDARD
TZOFFSETFROM:-0400
TZOFFSETTO:-0500
TZNAME:EST
DTSTART:20261101T060000
END:STANDARD
END:VTIMEZONE
BEGIN:VEVENT
DTSTART;TZID=America/New_York:20250531T200000
DTEND;TZID=America/New_York:20250531T213000
DTSTAMP:20260424T101911
CREATED:20250324T145451Z
LAST-MODIFIED:20250502T145750Z
UID:10000462-1748721600-1748727000@mfwineriesdistilleries.com
SUMMARY:Stand Up Comedy Night
DESCRIPTION:Laugh\, sip\, repeat! Join us for a fun night in our tasting room as we welcome stand-up comedian\, Angela Cobb. Get a drink\, sit back\, and laugh the night away with friends. Wine by the glass\, handcrafted cocktails\, and N/A drink options are available. \nTickets are $5 pre-sale online or $8 at the door. Martin Family Rewards members get in free (must provide account at check-in). \n  \nPurchase Tickets Here\n  \n  \n  \nMore about Angela Cobb: \n“One of New York’s fastest rising up-and-coming comedians\, Angela Cobb’s self-deprecating charm and nonchalant intellect make her a favorite among audiences in the Big Apple and beyond. \nA regular at Broadway Comedy Club\, Cobb can also be heard on Sirius XM Radio and her tweets have appeared on Comedy Central’s @midnight\, in The Huffington Post\, and someecards. Additional credits include ComedyTime TV\, as well as the Women In Comedy\, She-Devil\, Stand-Up 360\, and Westchester Comedy Festivals.”
URL:https://mfwineriesdistilleries.com/event/stand-up-comedy-night/
LOCATION:Montezuma Winery Cooperstown\, 4841 NY-28\, Cooperstown\, NY\, 13326\, United States
CATEGORIES:Montezuma Cooperstown
ATTACH;FMTTYPE=image/png:https://mfwineriesdistilleries.com/wp-content/uploads/2025/03/MF_Website-Graphic-Template-16.png
END:VEVENT
END:VCALENDAR