BEGIN:VCALENDAR
VERSION:2.0
PRODID:-//Martin Family Wineries &amp; Distilleries - ECPv6.15.17.1//NONSGML v1.0//EN
CALSCALE:GREGORIAN
METHOD:PUBLISH
X-ORIGINAL-URL:https://mfwineriesdistilleries.com
X-WR-CALDESC:Events for Martin Family Wineries &amp; Distilleries
REFRESH-INTERVAL;VALUE=DURATION:PT1H
X-Robots-Tag:noindex
X-PUBLISHED-TTL:PT1H
BEGIN:VTIMEZONE
TZID:America/New_York
BEGIN:DAYLIGHT
TZOFFSETFROM:-0500
TZOFFSETTO:-0400
TZNAME:EDT
DTSTART:20240310T070000
END:DAYLIGHT
BEGIN:STANDARD
TZOFFSETFROM:-0400
TZOFFSETTO:-0500
TZNAME:EST
DTSTART:20241103T060000
END:STANDARD
BEGIN:DAYLIGHT
TZOFFSETFROM:-0500
TZOFFSETTO:-0400
TZNAME:EDT
DTSTART:20250309T070000
END:DAYLIGHT
BEGIN:STANDARD
TZOFFSETFROM:-0400
TZOFFSETTO:-0500
TZNAME:EST
DTSTART:20251102T060000
END:STANDARD
BEGIN:DAYLIGHT
TZOFFSETFROM:-0500
TZOFFSETTO:-0400
TZNAME:EDT
DTSTART:20260308T070000
END:DAYLIGHT
BEGIN:STANDARD
TZOFFSETFROM:-0400
TZOFFSETTO:-0500
TZNAME:EST
DTSTART:20261101T060000
END:STANDARD
END:VTIMEZONE
BEGIN:VEVENT
DTSTART;TZID=America/New_York:20250615T090000
DTEND;TZID=America/New_York:20250621T180000
DTSTAMP:20260424T085742
CREATED:20250520T190810Z
LAST-MODIFIED:20250520T190810Z
UID:10000507-1749978000-1750528800@mfwineriesdistilleries.com
SUMMARY:Dole Whip Mimosas
DESCRIPTION:Kick off summer with a refreshing treat here in our tasting room— Dole Whip Mimosas!\nGet a scoop of famous Dole Whip from Max’s Custard with your choice of any of our Sparkling wines on top!\n\n\nList of flavors coming soon 
URL:https://mfwineriesdistilleries.com/event/dole-whip-mimosas/
LOCATION:Montezuma Winery Finger Lakes\, 2981 US Route 20\, Seneca Falls\, NY\, United States
CATEGORIES:Montezuma Finger Lakes
ATTACH;FMTTYPE=image/png:https://mfwineriesdistilleries.com/wp-content/uploads/2025/05/Dole-Whip-Mimosas.png
END:VEVENT
BEGIN:VEVENT
DTSTART;TZID=America/New_York:20250619T180000
DTEND;TZID=America/New_York:20250619T200000
DTSTAMP:20260424T085742
CREATED:20250620T175148Z
LAST-MODIFIED:20250804T151906Z
UID:10000625-1750356000-1750363200@mfwineriesdistilleries.com
SUMMARY:Summer Sips & Sounds Music Series
DESCRIPTION:Each week\, we’re bringing you a new music act that you can enjoy while sipping on your favorite wines & spirits! Our kitchen will also be open for pizzas\, paninis\, & more! \n\nCheck out our current music lineup: June 19th: Amy Lynn TrioJune 26th: Just Us BandJuly 3rd : Patrick YoungJuly 10th: Mr. Monkey (duo)July 17th: John Rogalia (duo)July 19th: David Graybeard BandJuly 24th: Dick EldredgeJuly 31st: Sam NitschAugust 7th: Midnight StormAugust 14th: Restless (music will start at 5:30pm)
URL:https://mfwineriesdistilleries.com/event/summer-sips-sounds-music-series-2/2025-06-19/
LOCATION:NY
CATEGORIES:Hidden Marsh Distillery,Montezuma Finger Lakes
ATTACH;FMTTYPE=image/png:https://mfwineriesdistilleries.com/wp-content/uploads/2025/05/MF_Website-Graphic-Template-35.png
END:VEVENT
END:VCALENDAR