BEGIN:VCALENDAR
VERSION:2.0
PRODID:-//Martin Family Wineries &amp; Distilleries - ECPv6.15.17.1//NONSGML v1.0//EN
CALSCALE:GREGORIAN
METHOD:PUBLISH
X-ORIGINAL-URL:https://mfwineriesdistilleries.com
X-WR-CALDESC:Events for Martin Family Wineries &amp; Distilleries
REFRESH-INTERVAL;VALUE=DURATION:PT1H
X-Robots-Tag:noindex
X-PUBLISHED-TTL:PT1H
BEGIN:VTIMEZONE
TZID:America/New_York
BEGIN:DAYLIGHT
TZOFFSETFROM:-0500
TZOFFSETTO:-0400
TZNAME:EDT
DTSTART:20240310T070000
END:DAYLIGHT
BEGIN:STANDARD
TZOFFSETFROM:-0400
TZOFFSETTO:-0500
TZNAME:EST
DTSTART:20241103T060000
END:STANDARD
BEGIN:DAYLIGHT
TZOFFSETFROM:-0500
TZOFFSETTO:-0400
TZNAME:EDT
DTSTART:20250309T070000
END:DAYLIGHT
BEGIN:STANDARD
TZOFFSETFROM:-0400
TZOFFSETTO:-0500
TZNAME:EST
DTSTART:20251102T060000
END:STANDARD
BEGIN:DAYLIGHT
TZOFFSETFROM:-0500
TZOFFSETTO:-0400
TZNAME:EDT
DTSTART:20260308T070000
END:DAYLIGHT
BEGIN:STANDARD
TZOFFSETFROM:-0400
TZOFFSETTO:-0500
TZNAME:EST
DTSTART:20261101T060000
END:STANDARD
END:VTIMEZONE
BEGIN:VEVENT
DTSTART;TZID=America/New_York:20250713T130000
DTEND;TZID=America/New_York:20250713T150000
DTSTAMP:20260424T072817
CREATED:20250619T161149Z
LAST-MODIFIED:20250619T161238Z
UID:10001178-1752411600-1752418800@mfwineriesdistilleries.com
SUMMARY:Stained Glass Class
DESCRIPTION:Curious about stained glass? This is the perfect place to start!Join us with our friends from the Studio of Art and Craft for a hands-on stained glass workshop where you’ll choose your own design and learn the art of foiling and soldering step-by-step. Whether you’re new to glasswork or just looking to try something creative\, this beginner-friendly session is a great introduction—(Pro tip: the mountain design is the easiest!).\n\nYou’ll also have the opportunity to purchase supplies if you’d like to continue creating at home.\nRegistration includes a 5 oz. glass of wine or cocktail.\n\n\nFor ages 16 and up. Spots are limited—reserve yours today and discover the magic of stained glass! \n\n\n\nPurchase Tickets Here
URL:https://mfwineriesdistilleries.com/event/stained-glass-class/
LOCATION:Montezuma Winery Cooperstown\, 4841 NY-28\, Cooperstown\, NY\, 13326\, United States
CATEGORIES:Montezuma Cooperstown
ATTACH;FMTTYPE=image/png:https://mfwineriesdistilleries.com/wp-content/uploads/2025/06/CT_StainedGlassClass.png
END:VEVENT
BEGIN:VEVENT
DTSTART;TZID=America/New_York:20250713T150000
DTEND;TZID=America/New_York:20250713T170000
DTSTAMP:20260424T072817
CREATED:20250630T194529Z
LAST-MODIFIED:20250716T142251Z
UID:10001245-1752418800-1752426000@mfwineriesdistilleries.com
SUMMARY:Live Music On The Ridge
DESCRIPTION:Join us every Sunday throughout the summer for relaxing vibes\, great tunes\, and your favorite drinks! Enjoy live music from talented local artists while sipping on a glass of wine\, handcrafted cocktails\, refreshing mimosas\, and our famous Bloody Marys!\n\nLive Music Schedule\n7/6 – Ryan Spadafora (Seein’ Double)7/13 – Chris Mahan (Lakeside Drifters)7/20- Mike & Angie7/27- Tim Braley8/3- Cooper Scotti8/10- Ryan Sutherland8/17- Marye Lobb8/24- Mike & Angie8/30- Jim E Leggs
URL:https://mfwineriesdistilleries.com/event/live-music-on-the-ridge/2025-07-13/
LOCATION:Idol Ridge Winery\, 9059 State Route 414\, Lodi\, NY\, 14860\, United States
CATEGORIES:Alder Creek Distillery,Idol Ridge
ATTACH;FMTTYPE=image/png:https://mfwineriesdistilleries.com/wp-content/uploads/2025/06/LIVE-MUSIC-ON-THE-RIDGE-IDOL-RIDGE_JULY-2025-2.png
END:VEVENT
END:VCALENDAR