BEGIN:VCALENDAR
VERSION:2.0
PRODID:-//Martin Family Wineries &amp; Distilleries - ECPv6.15.17.1//NONSGML v1.0//EN
CALSCALE:GREGORIAN
METHOD:PUBLISH
X-ORIGINAL-URL:https://mfwineriesdistilleries.com
X-WR-CALDESC:Events for Martin Family Wineries &amp; Distilleries
REFRESH-INTERVAL;VALUE=DURATION:PT1H
X-Robots-Tag:noindex
X-PUBLISHED-TTL:PT1H
BEGIN:VTIMEZONE
TZID:America/New_York
BEGIN:DAYLIGHT
TZOFFSETFROM:-0500
TZOFFSETTO:-0400
TZNAME:EDT
DTSTART:20240310T070000
END:DAYLIGHT
BEGIN:STANDARD
TZOFFSETFROM:-0400
TZOFFSETTO:-0500
TZNAME:EST
DTSTART:20241103T060000
END:STANDARD
BEGIN:DAYLIGHT
TZOFFSETFROM:-0500
TZOFFSETTO:-0400
TZNAME:EDT
DTSTART:20250309T070000
END:DAYLIGHT
BEGIN:STANDARD
TZOFFSETFROM:-0400
TZOFFSETTO:-0500
TZNAME:EST
DTSTART:20251102T060000
END:STANDARD
BEGIN:DAYLIGHT
TZOFFSETFROM:-0500
TZOFFSETTO:-0400
TZNAME:EDT
DTSTART:20260308T070000
END:DAYLIGHT
BEGIN:STANDARD
TZOFFSETFROM:-0400
TZOFFSETTO:-0500
TZNAME:EST
DTSTART:20261101T060000
END:STANDARD
END:VTIMEZONE
BEGIN:VEVENT
DTSTART;TZID=America/New_York:20250719T090000
DTEND;TZID=America/New_York:20250719T170000
DTSTAMP:20260424T072712
CREATED:20250619T163432Z
LAST-MODIFIED:20250716T125815Z
UID:10001180-1752915600-1752944400@mfwineriesdistilleries.com
SUMMARY:Blues\, BBQ\, & Bourbon
DESCRIPTION:Join us on July 19th for a day full of bold flavors\, smooth sips\, and soulful sounds at our Blues\, BBQ & Bourbon Day! \n🎸 LIVE MUSIC – Kick back and enjoy the sounds of a local blues artist\, David Graybeard band from 2pm-5pm \n🍖 BBQ Food Truck – Indulge in smoky\, savory barbecue from Saltbox Smokehouse food truck from 11am-5pm\, serving up mouthwatering food to pair perfectly with our wide range of Hidden Marsh bourbon. \n🥃 Special Themed Cocktails – We’re shaking up exclusive bourbon cocktails just for the occasion! \nOur kitchen will also be open 10am-5pm\, serving up our featured Mexican Street Corn pizza. \nBring your friends\, bring your appetite\, and come raise a glass with us.  This is one summer event you won’t want to miss!
URL:https://mfwineriesdistilleries.com/event/blues-bbq-bourbon/
LOCATION:Montezuma Winery Finger Lakes\, 2981 US Route 20\, Seneca Falls\, NY\, United States
CATEGORIES:Hidden Marsh Distillery,Montezuma Finger Lakes
ATTACH;FMTTYPE=image/png:https://mfwineriesdistilleries.com/wp-content/uploads/2025/06/FLX-HMD-MF_Website-Graphic-Template-1.png
END:VEVENT
END:VCALENDAR