BEGIN:VCALENDAR
VERSION:2.0
PRODID:-//Martin Family Wineries &amp; Distilleries - ECPv6.15.17.1//NONSGML v1.0//EN
CALSCALE:GREGORIAN
METHOD:PUBLISH
X-WR-CALNAME:Martin Family Wineries &amp; Distilleries
X-ORIGINAL-URL:https://mfwineriesdistilleries.com
X-WR-CALDESC:Events for Martin Family Wineries &amp; Distilleries
REFRESH-INTERVAL;VALUE=DURATION:PT1H
X-Robots-Tag:noindex
X-PUBLISHED-TTL:PT1H
BEGIN:VTIMEZONE
TZID:America/New_York
BEGIN:DAYLIGHT
TZOFFSETFROM:-0500
TZOFFSETTO:-0400
TZNAME:EDT
DTSTART:20240310T070000
END:DAYLIGHT
BEGIN:STANDARD
TZOFFSETFROM:-0400
TZOFFSETTO:-0500
TZNAME:EST
DTSTART:20241103T060000
END:STANDARD
BEGIN:DAYLIGHT
TZOFFSETFROM:-0500
TZOFFSETTO:-0400
TZNAME:EDT
DTSTART:20250309T070000
END:DAYLIGHT
BEGIN:STANDARD
TZOFFSETFROM:-0400
TZOFFSETTO:-0500
TZNAME:EST
DTSTART:20251102T060000
END:STANDARD
BEGIN:DAYLIGHT
TZOFFSETFROM:-0500
TZOFFSETTO:-0400
TZNAME:EDT
DTSTART:20260308T070000
END:DAYLIGHT
BEGIN:STANDARD
TZOFFSETFROM:-0400
TZOFFSETTO:-0500
TZNAME:EST
DTSTART:20261101T060000
END:STANDARD
END:VTIMEZONE
BEGIN:VEVENT
DTSTART;TZID=America/New_York:20250926T160000
DTEND;TZID=America/New_York:20250926T190000
DTSTAMP:20260424T084518
CREATED:20250724T171251Z
LAST-MODIFIED:20250918T143316Z
UID:10001363-1758902400-1758913200@mfwineriesdistilleries.com
SUMMARY:Bring Your Own Game Night
DESCRIPTION:Join us for a relaxed evening of games\, wine\, and great fun here at Swedish Hill Winery.  Bring your favorite board games\, card games\, or party games to play with friends\, or make new ones. No reservations are required\, just good vibes and good times!
URL:https://mfwineriesdistilleries.com/event/bring-your-own-game-night-3/
LOCATION:Swedish Hill\, 4565 State Route 414\, Romulus\, NY\, 14541\, United States
CATEGORIES:Swedish Hill Winery & Vineyard
ATTACH;FMTTYPE=image/png:https://mfwineriesdistilleries.com/wp-content/uploads/2025/07/SH-MF_Website-Graphic-Template-2.png
END:VEVENT
END:VCALENDAR