BEGIN:VCALENDAR
VERSION:2.0
PRODID:-//Martin Family Wineries &amp; Distilleries - ECPv6.15.17.1//NONSGML v1.0//EN
CALSCALE:GREGORIAN
METHOD:PUBLISH
X-ORIGINAL-URL:https://mfwineriesdistilleries.com
X-WR-CALDESC:Events for Martin Family Wineries &amp; Distilleries
REFRESH-INTERVAL;VALUE=DURATION:PT1H
X-Robots-Tag:noindex
X-PUBLISHED-TTL:PT1H
BEGIN:VTIMEZONE
TZID:America/New_York
BEGIN:DAYLIGHT
TZOFFSETFROM:-0500
TZOFFSETTO:-0400
TZNAME:EDT
DTSTART:20240310T070000
END:DAYLIGHT
BEGIN:STANDARD
TZOFFSETFROM:-0400
TZOFFSETTO:-0500
TZNAME:EST
DTSTART:20241103T060000
END:STANDARD
BEGIN:DAYLIGHT
TZOFFSETFROM:-0500
TZOFFSETTO:-0400
TZNAME:EDT
DTSTART:20250309T070000
END:DAYLIGHT
BEGIN:STANDARD
TZOFFSETFROM:-0400
TZOFFSETTO:-0500
TZNAME:EST
DTSTART:20251102T060000
END:STANDARD
BEGIN:DAYLIGHT
TZOFFSETFROM:-0500
TZOFFSETTO:-0400
TZNAME:EDT
DTSTART:20260308T070000
END:DAYLIGHT
BEGIN:STANDARD
TZOFFSETFROM:-0400
TZOFFSETTO:-0500
TZNAME:EST
DTSTART:20261101T060000
END:STANDARD
END:VTIMEZONE
BEGIN:VEVENT
DTSTART;TZID=America/New_York:20251003T173000
DTEND;TZID=America/New_York:20251003T193000
DTSTAMP:20260420T045249
CREATED:20250923T192837Z
LAST-MODIFIED:20251015T161702Z
UID:10001632-1759512600-1759519800@mfwineriesdistilleries.com
SUMMARY:Sips & Sounds Fall Music Series
DESCRIPTION:With the hit of our Summer Sips and Sounds music series\, we’ve decided to bring back live music to our tasting room! Join us from 5:30pm-7:30pm for evenings of live music in October. During live music\, our tasting bar will be open for glasses of wine\, cocktails\, draft beer\, and flights. Plus\, enjoy bites from our kitchen! \nOur current music lineup:\n10/3: Jon Lamanna\n10/10: What’s Left Duo\n10/17: David Kuykendall & Diana Jacobs\n10/24: DJ Addya (Playing from 6pm-9pm during our Halloween Party! Make sure to get tickets to join in on the fun). Get your tickets for the party \nPurchase Tickets For Our Halloween Party Here\n11/7: UnParallel Band Duo \n11/14:  Amy Lynn Trio \n11/21:  Major Keys
URL:https://mfwineriesdistilleries.com/event/sips-sounds-fall-music-series/
LOCATION:Montezuma Winery Finger Lakes\, 2981 US Route 20\, Seneca Falls\, NY\, United States
CATEGORIES:Montezuma Finger Lakes
ATTACH;FMTTYPE=image/png:https://mfwineriesdistilleries.com/wp-content/uploads/2025/09/Sips-Sounds-Fall-Music-Series.png
END:VEVENT
END:VCALENDAR