BEGIN:VCALENDAR
VERSION:2.0
PRODID:-//Martin Family Wineries &amp; Distilleries - ECPv6.15.17.1//NONSGML v1.0//EN
CALSCALE:GREGORIAN
METHOD:PUBLISH
X-ORIGINAL-URL:https://mfwineriesdistilleries.com
X-WR-CALDESC:Events for Martin Family Wineries &amp; Distilleries
REFRESH-INTERVAL;VALUE=DURATION:PT1H
X-Robots-Tag:noindex
X-PUBLISHED-TTL:PT1H
BEGIN:VTIMEZONE
TZID:America/New_York
BEGIN:DAYLIGHT
TZOFFSETFROM:-0500
TZOFFSETTO:-0400
TZNAME:EDT
DTSTART:20240310T070000
END:DAYLIGHT
BEGIN:STANDARD
TZOFFSETFROM:-0400
TZOFFSETTO:-0500
TZNAME:EST
DTSTART:20241103T060000
END:STANDARD
BEGIN:DAYLIGHT
TZOFFSETFROM:-0500
TZOFFSETTO:-0400
TZNAME:EDT
DTSTART:20250309T070000
END:DAYLIGHT
BEGIN:STANDARD
TZOFFSETFROM:-0400
TZOFFSETTO:-0500
TZNAME:EST
DTSTART:20251102T060000
END:STANDARD
BEGIN:DAYLIGHT
TZOFFSETFROM:-0500
TZOFFSETTO:-0400
TZNAME:EDT
DTSTART:20260308T070000
END:DAYLIGHT
BEGIN:STANDARD
TZOFFSETFROM:-0400
TZOFFSETTO:-0500
TZNAME:EST
DTSTART:20261101T060000
END:STANDARD
END:VTIMEZONE
BEGIN:VEVENT
DTSTART;TZID=America/New_York:20251008T100000
DTEND;TZID=America/New_York:20251031T170000
DTSTAMP:20260420T045224
CREATED:20251008T142034Z
LAST-MODIFIED:20251008T161631Z
UID:10001653-1759917600-1761930000@mfwineriesdistilleries.com
SUMMARY:Spooky Cocktails & Mocktails
DESCRIPTION:Get ready to sip on something spooktacular here on the Ridge! Stop by and check out our new Halloween cocktail menu filled with new drinks crafted with our Alder Creek Distillery spirits alongside all our old fan favorites. Plus\, we’ve added some mocktails for those who prefer to keep it ghostly without the booze!
URL:https://mfwineriesdistilleries.com/event/spooky-cocktails-mocktails/
LOCATION:Idol Ridge Winery\, 9059 State Route 414\, Lodi\, NY\, 14860\, United States
CATEGORIES:Alder Creek Distillery,Idol Ridge
ATTACH;FMTTYPE=image/png:https://mfwineriesdistilleries.com/wp-content/uploads/2025/10/Spooky-Cocktail-and-Mocktails_IR.png
END:VEVENT
BEGIN:VEVENT
DTSTART;TZID=America/New_York:20251018T110000
DTEND;TZID=America/New_York:20251101T180000
DTSTAMP:20260420T045224
CREATED:20251002T131326Z
LAST-MODIFIED:20251023T200415Z
UID:10001652-1760785200-1762020000@mfwineriesdistilleries.com
SUMMARY:Boos & Bites: Halloween Pairing
DESCRIPTION:This Halloween\, we’re up to something wickedly delicious… introducing our Boos & Bites Halloween pairing! Enjoy a limited-time tasting experience where you can enjoy our wines & spirits paired with your go-to Halloween candy\n\nNo reservations are required for this delicious pairing\, and it costs $10!\n\nFeatured pairing includes:\nFat Frog Peanut Butter with Reese’s Peanut Buttercup\nMaple Liqueur with Snickers\nCoffee Liqueur with Kit Kat
URL:https://mfwineriesdistilleries.com/event/boos-bites-halloween-pairing/
LOCATION:Montezuma Winery Cooperstown\, 4841 NY-28\, Cooperstown\, NY\, 13326\, United States
CATEGORIES:Montezuma Cooperstown
ATTACH;FMTTYPE=image/png:https://mfwineriesdistilleries.com/wp-content/uploads/2025/10/Boos-Bites_MTZ_CT-1.png
END:VEVENT
BEGIN:VEVENT
DTSTART;TZID=America/New_York:20251024T180000
DTEND;TZID=America/New_York:20251024T210000
DTSTAMP:20260420T045224
CREATED:20250911T202433Z
LAST-MODIFIED:20250916T115657Z
UID:10001496-1761328800-1761339600@mfwineriesdistilleries.com
SUMMARY:Halloween Event
DESCRIPTION:Get ready for a wickedly good time at our first-ever Halloween Party here in our tasting room! 🎃👻🍷 \nWhat the night has in store:\n• $10 Entry- not only does this include your way into the coolest party\, but also a portion of the proceeds will be donated to Seneca House of Concern. Make sure to get your ticket ahead on time to save your spot! Space is limited. \n• DJ Addya will be spinning all the best beats. Get ready to shake your bones! \n• Costume Contest: Dress to impress to win a special prize! Our Staff will be voting on three different categories: Funniest\, scariest\, and most creative \n• Spooky Pizza: Our kitchen will be open all evening long\, serving up a limited menu along with our special Spooky Pizza! \n• Eerie Cocktails: Sip on four spooky signature cocktails crafted just for the night \n• Pumpkin Walk: Take a stroll in our haunted courtyard of glowing pumpkins. More details on our pumpkin walk coming soon! \n  \nPurchase Tickets Here\n 
URL:https://mfwineriesdistilleries.com/event/halloween-event/
LOCATION:Montezuma Winery Finger Lakes\, 2981 US Route 20\, Seneca Falls\, NY\, United States
CATEGORIES:Hidden Marsh Distillery,Montezuma Finger Lakes
ATTACH;FMTTYPE=image/png:https://mfwineriesdistilleries.com/wp-content/uploads/2025/09/MF_Website-Graphic-Template-38.png
END:VEVENT
END:VCALENDAR