BEGIN:VCALENDAR
VERSION:2.0
PRODID:-//Martin Family Wineries &amp; Distilleries - ECPv6.15.17.1//NONSGML v1.0//EN
CALSCALE:GREGORIAN
METHOD:PUBLISH
X-ORIGINAL-URL:https://mfwineriesdistilleries.com
X-WR-CALDESC:Events for Martin Family Wineries &amp; Distilleries
REFRESH-INTERVAL;VALUE=DURATION:PT1H
X-Robots-Tag:noindex
X-PUBLISHED-TTL:PT1H
BEGIN:VTIMEZONE
TZID:America/New_York
BEGIN:DAYLIGHT
TZOFFSETFROM:-0500
TZOFFSETTO:-0400
TZNAME:EDT
DTSTART:20240310T070000
END:DAYLIGHT
BEGIN:STANDARD
TZOFFSETFROM:-0400
TZOFFSETTO:-0500
TZNAME:EST
DTSTART:20241103T060000
END:STANDARD
BEGIN:DAYLIGHT
TZOFFSETFROM:-0500
TZOFFSETTO:-0400
TZNAME:EDT
DTSTART:20250309T070000
END:DAYLIGHT
BEGIN:STANDARD
TZOFFSETFROM:-0400
TZOFFSETTO:-0500
TZNAME:EST
DTSTART:20251102T060000
END:STANDARD
BEGIN:DAYLIGHT
TZOFFSETFROM:-0500
TZOFFSETTO:-0400
TZNAME:EDT
DTSTART:20260308T070000
END:DAYLIGHT
BEGIN:STANDARD
TZOFFSETFROM:-0400
TZOFFSETTO:-0500
TZNAME:EST
DTSTART:20261101T060000
END:STANDARD
END:VTIMEZONE
BEGIN:VEVENT
DTSTART;VALUE=DATE:20250302
DTEND;VALUE=DATE:20250303
DTSTAMP:20260425T185640
CREATED:20250221T192415Z
LAST-MODIFIED:20250306T124921Z
UID:10000023-1740873600-1740959999@mfwineriesdistilleries.com
SUMMARY:Sunday Fun Day
DESCRIPTION:Sundays just got better here on the Ridge. Every Sunday in March\, jam out to our staff’s favorite music playlist & sip on their featured cocktail!  \nCheck out our Sunday Funday schedule: \nMarch 2nd: Sarah’s Ska\nMarch 9th: Nick Motown\nMarch 16th: Merry’s Country Hits\nMarch 23rd: Taylor’s Hits of the 80’s\nMarch 30th: Katie’s Hip Hop \n 
URL:https://mfwineriesdistilleries.com/event/sunday-fun-day/2025-03-02/
LOCATION:Idol Ridge Winery\, 9059 State Route 414\, Lodi\, NY\, 14860\, United States
CATEGORIES:Alder Creek Distillery,Idol Ridge
ATTACH;FMTTYPE=image/png:https://mfwineriesdistilleries.com/wp-content/uploads/2025/02/MZW_FEAT_SUNDAYFUNDAY.png
END:VEVENT
BEGIN:VEVENT
DTSTART;VALUE=DATE:20250309
DTEND;VALUE=DATE:20250311
DTSTAMP:20260425T185640
CREATED:20250221T192415Z
LAST-MODIFIED:20250306T124921Z
UID:10000025-1741478400-1741568399@mfwineriesdistilleries.com
SUMMARY:Sunday Fun Day
DESCRIPTION:Sundays just got better here on the Ridge. Every Sunday in March\, jam out to our staff’s favorite music playlist & sip on their featured cocktail!  \nCheck out our Sunday Funday schedule: \nMarch 2nd: Sarah’s Ska\nMarch 9th: Nick Motown\nMarch 16th: Merry’s Country Hits\nMarch 23rd: Taylor’s Hits of the 80’s\nMarch 30th: Katie’s Hip Hop \n 
URL:https://mfwineriesdistilleries.com/event/sunday-fun-day/2025-03-09/
LOCATION:Idol Ridge Winery\, 9059 State Route 414\, Lodi\, NY\, 14860\, United States
CATEGORIES:Alder Creek Distillery,Idol Ridge
ATTACH;FMTTYPE=image/png:https://mfwineriesdistilleries.com/wp-content/uploads/2025/02/MZW_FEAT_SUNDAYFUNDAY.png
END:VEVENT
BEGIN:VEVENT
DTSTART;TZID=America/New_York:20250315T110000
DTEND;TZID=America/New_York:20250315T170000
DTSTAMP:20260425T185640
CREATED:20250221T193356Z
LAST-MODIFIED:20250227T171322Z
UID:10000022-1742036400-1742058000@mfwineriesdistilleries.com
SUMMARY:Cocktails & Cornhole
DESCRIPTION:Handcrafted cocktails & a round of cornhole… name a better way to spend a Saturday in March! On March 15th\, we will have our back room open with cornhole boards set up from 11am-5pm. Bring your friends for a round (or two) of cornhole inside while sippin’ on our craft cocktails.\n\nNo reservations are required.
URL:https://mfwineriesdistilleries.com/event/cocktails-cornhole/
LOCATION:Idol Ridge Winery\, 9059 State Route 414\, Lodi\, NY\, 14860\, United States
CATEGORIES:Alder Creek Distillery,Idol Ridge
ATTACH;FMTTYPE=image/png:https://mfwineriesdistilleries.com/wp-content/uploads/2025/02/MF_Website-Graphic-Template-4.png
END:VEVENT
BEGIN:VEVENT
DTSTART;VALUE=DATE:20250316
DTEND;VALUE=DATE:20250317
DTSTAMP:20260425T185640
CREATED:20250221T192415Z
LAST-MODIFIED:20250306T124921Z
UID:10000027-1742083200-1742169599@mfwineriesdistilleries.com
SUMMARY:Sunday Fun Day
DESCRIPTION:Sundays just got better here on the Ridge. Every Sunday in March\, jam out to our staff’s favorite music playlist & sip on their featured cocktail!  \nCheck out our Sunday Funday schedule: \nMarch 2nd: Sarah’s Ska\nMarch 9th: Nick Motown\nMarch 16th: Merry’s Country Hits\nMarch 23rd: Taylor’s Hits of the 80’s\nMarch 30th: Katie’s Hip Hop \n 
URL:https://mfwineriesdistilleries.com/event/sunday-fun-day/2025-03-16/
LOCATION:Idol Ridge Winery\, 9059 State Route 414\, Lodi\, NY\, 14860\, United States
CATEGORIES:Alder Creek Distillery,Idol Ridge
ATTACH;FMTTYPE=image/png:https://mfwineriesdistilleries.com/wp-content/uploads/2025/02/MZW_FEAT_SUNDAYFUNDAY.png
END:VEVENT
BEGIN:VEVENT
DTSTART;VALUE=DATE:20250323
DTEND;VALUE=DATE:20250324
DTSTAMP:20260425T185640
CREATED:20250221T192415Z
LAST-MODIFIED:20250306T124921Z
UID:10000028-1742688000-1742774399@mfwineriesdistilleries.com
SUMMARY:Sunday Fun Day
DESCRIPTION:Sundays just got better here on the Ridge. Every Sunday in March\, jam out to our staff’s favorite music playlist & sip on their featured cocktail!  \nCheck out our Sunday Funday schedule: \nMarch 2nd: Sarah’s Ska\nMarch 9th: Nick Motown\nMarch 16th: Merry’s Country Hits\nMarch 23rd: Taylor’s Hits of the 80’s\nMarch 30th: Katie’s Hip Hop \n 
URL:https://mfwineriesdistilleries.com/event/sunday-fun-day/2025-03-23/
LOCATION:Idol Ridge Winery\, 9059 State Route 414\, Lodi\, NY\, 14860\, United States
CATEGORIES:Alder Creek Distillery,Idol Ridge
ATTACH;FMTTYPE=image/png:https://mfwineriesdistilleries.com/wp-content/uploads/2025/02/MZW_FEAT_SUNDAYFUNDAY.png
END:VEVENT
BEGIN:VEVENT
DTSTART;VALUE=DATE:20250326
DTEND;VALUE=DATE:20250501
DTSTAMP:20260425T185640
CREATED:20250326T154032Z
LAST-MODIFIED:20250326T154552Z
UID:10000464-1742947200-1746057599@mfwineriesdistilleries.com
SUMMARY:Ferment to be Wild: Local Culture Pairing
DESCRIPTION:Dive into the inspiration and craft behind our Local Culture series\, featuring natural-inspired wines produced using a pied de cuve wild yeast fermentation created by our Winemakers. Also featured in this pairing is local light-bite food to enhance the unique flavors of the wines. This special pairing costs $20 \nAre you Ferment to be Wild? \n  \n 
URL:https://mfwineriesdistilleries.com/event/ferment-to-be-wild-local-culture-pairing/
LOCATION:Idol Ridge Winery\, 9059 State Route 414\, Lodi\, NY\, 14860\, United States
CATEGORIES:Idol Ridge
ATTACH;FMTTYPE=image/png:https://mfwineriesdistilleries.com/wp-content/uploads/2025/03/MF_Website-Graphic-Template-18.png
END:VEVENT
BEGIN:VEVENT
DTSTART;VALUE=DATE:20250330
DTEND;VALUE=DATE:20250331
DTSTAMP:20260425T185640
CREATED:20250221T192415Z
LAST-MODIFIED:20250306T124921Z
UID:10000024-1743292800-1743379199@mfwineriesdistilleries.com
SUMMARY:Sunday Fun Day
DESCRIPTION:Sundays just got better here on the Ridge. Every Sunday in March\, jam out to our staff’s favorite music playlist & sip on their featured cocktail!  \nCheck out our Sunday Funday schedule: \nMarch 2nd: Sarah’s Ska\nMarch 9th: Nick Motown\nMarch 16th: Merry’s Country Hits\nMarch 23rd: Taylor’s Hits of the 80’s\nMarch 30th: Katie’s Hip Hop \n 
URL:https://mfwineriesdistilleries.com/event/sunday-fun-day/2025-03-30/
LOCATION:Idol Ridge Winery\, 9059 State Route 414\, Lodi\, NY\, 14860\, United States
CATEGORIES:Alder Creek Distillery,Idol Ridge
ATTACH;FMTTYPE=image/png:https://mfwineriesdistilleries.com/wp-content/uploads/2025/02/MZW_FEAT_SUNDAYFUNDAY.png
END:VEVENT
END:VCALENDAR