BEGIN:VCALENDAR
VERSION:2.0
PRODID:-//Martin Family Wineries &amp; Distilleries - ECPv6.15.17.1//NONSGML v1.0//EN
CALSCALE:GREGORIAN
METHOD:PUBLISH
X-WR-CALNAME:Martin Family Wineries &amp; Distilleries
X-ORIGINAL-URL:https://mfwineriesdistilleries.com
X-WR-CALDESC:Events for Martin Family Wineries &amp; Distilleries
REFRESH-INTERVAL;VALUE=DURATION:PT1H
X-Robots-Tag:noindex
X-PUBLISHED-TTL:PT1H
BEGIN:VTIMEZONE
TZID:America/New_York
BEGIN:DAYLIGHT
TZOFFSETFROM:-0500
TZOFFSETTO:-0400
TZNAME:EDT
DTSTART:20250309T070000
END:DAYLIGHT
BEGIN:STANDARD
TZOFFSETFROM:-0400
TZOFFSETTO:-0500
TZNAME:EST
DTSTART:20251102T060000
END:STANDARD
BEGIN:DAYLIGHT
TZOFFSETFROM:-0500
TZOFFSETTO:-0400
TZNAME:EDT
DTSTART:20260308T070000
END:DAYLIGHT
BEGIN:STANDARD
TZOFFSETFROM:-0400
TZOFFSETTO:-0500
TZNAME:EST
DTSTART:20261101T060000
END:STANDARD
BEGIN:DAYLIGHT
TZOFFSETFROM:-0500
TZOFFSETTO:-0400
TZNAME:EDT
DTSTART:20270314T070000
END:DAYLIGHT
BEGIN:STANDARD
TZOFFSETFROM:-0400
TZOFFSETTO:-0500
TZNAME:EST
DTSTART:20271107T060000
END:STANDARD
END:VTIMEZONE
BEGIN:VEVENT
DTSTART;TZID=America/New_York:20260509T120000
DTEND;TZID=America/New_York:20260509T160000
DTSTAMP:20260424T235906
CREATED:20260415T180840Z
LAST-MODIFIED:20260415T181750Z
UID:10003637-1778328000-1778342400@mfwineriesdistilleries.com
SUMMARY:Pop-Up Market: Evermore & Co.
DESCRIPTION:Join us in the tasting room as our friends from Evermore & Co Rochester return for a special pop-up featuring their beautiful\, local permanent jewelry!\n\n\nWe’re also raising a glass (or a few ) with a special on our famous mimosas\, available all day long on the 9th and continuing through the 10th so you’ve got plenty of time to sip\, relax\, and celebrate with glasses or flights.\nThis celebration is for ALL the moms (moms-to-be\, grandmothers\, and yes\, even dog moms too )\n\nIt’s free to attend\, so bring your favorite people and come spend the day with us. We can’t wait to see you there!\n  \nCheck Out Evermore & Co.
URL:https://mfwineriesdistilleries.com/event/pop-up-market-evermore-co-2/
LOCATION:Idol Ridge Winery\, 9059 State Route 414\, Lodi\, NY\, 14860\, United States
CATEGORIES:Alder Creek Distillery,Idol Ridge
ATTACH;FMTTYPE=image/png:https://mfwineriesdistilleries.com/wp-content/uploads/2026/04/Pop-Up-Market_IR-2026.png
END:VEVENT
BEGIN:VEVENT
DTSTART;TZID=America/New_York:20260510T120000
DTEND;TZID=America/New_York:20260521T170000
DTSTAMP:20260424T235906
CREATED:20260226T132150Z
LAST-MODIFIED:20260226T132150Z
UID:10002971-1778414400-1779382800@mfwineriesdistilleries.com
SUMMARY:Seneca Lake Wine Trail: Sip Into Spring Tasting Pass 2026
DESCRIPTION:Spring is in the air—and in your glass. 🌷🍷 \nCelebrate the season with Sip Into Spring\, a tasting pass on the Seneca Lake Wine Trail\, available to use any time May 10\, 2026 through May 21\, 2026. \nWith one all-inclusive pass\, you’ll enjoy wine tastings at 17 participating wineries around beautiful Seneca Lake. It’s the perfect excuse to explore new favorites\, revisit beloved stops\, and experience the trail as vineyards awaken for the season. \nTake your time\, set your own pace\, and soak in scenic views\, fresh releases\, and the welcoming hospitality that makes the Seneca Lake Wine Trail so special. Whether you spread your visits out over the week or plan a few focused days of tasting\, Sip Into Spring is your invitation to savor spring in the Finger Lakes—one sip at a time. \nThe pass is *exclusively* digital. Once you check out below\, you’ll receive a QR code via email or text (whichever you choose at check out). If you do not receive the code\, please contact us and we can send it your way: 607-535-8080. \n\nPrice\n$50 per person (includes tax). One pass = one standard tasting at each winery. \nGroup Size Maximum\nThese passes are available for those traveling in groups of no more than 6 people. \n  \nPurchase Tickets Here\n  \nPreferred Lodging\nThe Fairfield by Marriott Geneva Finger Lakes is offering a discount of 5% to Seneca Lake Wine Trail event attendees during Wine Trail event weekends! For the Sip Into Spring Tasting Pass\, this discount is valid for stays between May 9 and May 22. Use the code S5235 – to be used only on www.marriott.com/ithfl – enter code under Special rates- Corp/Promo Code. \n 
URL:https://mfwineriesdistilleries.com/event/seneca-lake-wine-trail-sip-into-spring-tasting-pass-2026/
LOCATION:Either Oar Wine\, Whiskey\, & Cheese Bar\, 6075 State Route 414\, Hector\, NY\, 14841\, United States
CATEGORIES:Either Oar,Idol Ridge
ATTACH;FMTTYPE=image/png:https://mfwineriesdistilleries.com/wp-content/uploads/2026/02/Spring-Wine-Cheese-1.png
ORGANIZER;CN="Seneca Lake Wine Trail":MAILTO:info@senecalakewine.com
END:VEVENT
BEGIN:VEVENT
DTSTART;TZID=America/New_York:20260531T133000
DTEND;TZID=America/New_York:20260531T160000
DTSTAMP:20260424T235906
CREATED:20260319T120546Z
LAST-MODIFIED:20260319T120546Z
UID:10003619-1780234200-1780243200@mfwineriesdistilleries.com
SUMMARY:Sunday Songs On The Ridge
DESCRIPTION:Get ready\, live music is coming back to our tasting room! 🎶🍷 \nJoin us from May 31st through August 30th for great tunes from a local musician every Sunday from 1:30pm-4:30pm. Grab your friends\, relax on the Ridge\, and soak up the views of Seneca Lake while enjoying Finger Lakes wines and handcrafted cocktails. \nMusic line-up: \n\nMay 31st: Katie Alessandra\nJune 7th: Marye Lobb\nJune 14th: Tim Braley\nJune 21st: Cooper Scotti\nJune 28th: River Lynch\nJuly 5th: High Divin Act\nJuly 12th: Josh Ketchum\nJuly 19th: Mike & Angie\nJuly 26th: Nate Coffey\nAugust 2nd: Ryan Spadofora\nAugust 9th: Jim Kerins & Jimmy Jam\nAugust 16th: Ryan Sutherland\nAugust 23rd: Adam Henne\nAugust 30th: River Lynch\n\n 
URL:https://mfwineriesdistilleries.com/event/sunday-songs-on-the-ridge/2026-05-31/
LOCATION:Idol Ridge Winery\, 9059 State Route 414\, Lodi\, NY\, 14860\, United States
CATEGORIES:Alder Creek Distillery,Idol Ridge
ATTACH;FMTTYPE=image/png:https://mfwineriesdistilleries.com/wp-content/uploads/2026/03/Sunday-Songs-on-The-Ridge_Idol-Ridge-Winery-.png
END:VEVENT
END:VCALENDAR