BEGIN:VCALENDAR
VERSION:2.0
PRODID:-//Martin Family Wineries &amp; Distilleries - ECPv6.15.17.1//NONSGML v1.0//EN
CALSCALE:GREGORIAN
METHOD:PUBLISH
X-WR-CALNAME:Martin Family Wineries &amp; Distilleries
X-ORIGINAL-URL:https://mfwineriesdistilleries.com
X-WR-CALDESC:Events for Martin Family Wineries &amp; Distilleries
REFRESH-INTERVAL;VALUE=DURATION:PT1H
X-Robots-Tag:noindex
X-PUBLISHED-TTL:PT1H
BEGIN:VTIMEZONE
TZID:America/New_York
BEGIN:DAYLIGHT
TZOFFSETFROM:-0500
TZOFFSETTO:-0400
TZNAME:EDT
DTSTART:20240310T070000
END:DAYLIGHT
BEGIN:STANDARD
TZOFFSETFROM:-0400
TZOFFSETTO:-0500
TZNAME:EST
DTSTART:20241103T060000
END:STANDARD
BEGIN:DAYLIGHT
TZOFFSETFROM:-0500
TZOFFSETTO:-0400
TZNAME:EDT
DTSTART:20250309T070000
END:DAYLIGHT
BEGIN:STANDARD
TZOFFSETFROM:-0400
TZOFFSETTO:-0500
TZNAME:EST
DTSTART:20251102T060000
END:STANDARD
BEGIN:DAYLIGHT
TZOFFSETFROM:-0500
TZOFFSETTO:-0400
TZNAME:EDT
DTSTART:20260308T070000
END:DAYLIGHT
BEGIN:STANDARD
TZOFFSETFROM:-0400
TZOFFSETTO:-0500
TZNAME:EST
DTSTART:20261101T060000
END:STANDARD
END:VTIMEZONE
BEGIN:VEVENT
DTSTART;TZID=America/New_York:20250608T100000
DTEND;TZID=America/New_York:20250608T120000
DTSTAMP:20260425T160843
CREATED:20250521T203149Z
LAST-MODIFIED:20250603T170011Z
UID:10000567-1749376800-1749384000@mfwineriesdistilleries.com
SUMMARY:Brunch Beats & Bloody Mary's
DESCRIPTION:Join us every Sunday in June for the ultimate brunch experience! We’re bringing you live music and a fully stocked Build Your Own Bloody Mary Bar for just $18!\n\n\nLive Music Schedule:\nSundays in June | 10am-12pm\n6/1 – Evan Dillon\n6/8 – High Divin’ Act\n6/15 – Cooper Scotti\n6/22 – Jimmy Jam\n6/29 – Dave Turner
URL:https://mfwineriesdistilleries.com/event/brunch-beats-bloody-marys/
LOCATION:Idol Ridge Winery\, 9059 State Route 414\, Lodi\, NY\, 14860\, United States
CATEGORIES:Alder Creek Distillery,Idol Ridge
ATTACH;FMTTYPE=image/png:https://mfwineriesdistilleries.com/wp-content/uploads/2025/05/MF_Website-Graphic-Template-34.png
END:VEVENT
END:VCALENDAR