BEGIN:VCALENDAR
VERSION:2.0
PRODID:-//Martin Family Wineries &amp; Distilleries - ECPv6.15.17.1//NONSGML v1.0//EN
CALSCALE:GREGORIAN
METHOD:PUBLISH
X-WR-CALNAME:Martin Family Wineries &amp; Distilleries
X-ORIGINAL-URL:https://mfwineriesdistilleries.com
X-WR-CALDESC:Events for Martin Family Wineries &amp; Distilleries
REFRESH-INTERVAL;VALUE=DURATION:PT1H
X-Robots-Tag:noindex
X-PUBLISHED-TTL:PT1H
BEGIN:VTIMEZONE
TZID:America/New_York
BEGIN:DAYLIGHT
TZOFFSETFROM:-0500
TZOFFSETTO:-0400
TZNAME:EDT
DTSTART:20240310T070000
END:DAYLIGHT
BEGIN:STANDARD
TZOFFSETFROM:-0400
TZOFFSETTO:-0500
TZNAME:EST
DTSTART:20241103T060000
END:STANDARD
BEGIN:DAYLIGHT
TZOFFSETFROM:-0500
TZOFFSETTO:-0400
TZNAME:EDT
DTSTART:20250309T070000
END:DAYLIGHT
BEGIN:STANDARD
TZOFFSETFROM:-0400
TZOFFSETTO:-0500
TZNAME:EST
DTSTART:20251102T060000
END:STANDARD
BEGIN:DAYLIGHT
TZOFFSETFROM:-0500
TZOFFSETTO:-0400
TZNAME:EDT
DTSTART:20260308T070000
END:DAYLIGHT
BEGIN:STANDARD
TZOFFSETFROM:-0400
TZOFFSETTO:-0500
TZNAME:EST
DTSTART:20261101T060000
END:STANDARD
END:VTIMEZONE
BEGIN:VEVENT
DTSTART;TZID=America/New_York:20251213T170000
DTEND;TZID=America/New_York:20251213T190000
DTSTAMP:20260425T064228
CREATED:20251104T171122Z
LAST-MODIFIED:20251104T171122Z
UID:10002064-1765645200-1765652400@mfwineriesdistilleries.com
SUMMARY:Tacky\, Tinsel\, and Tini’s
DESCRIPTION:Whether you’re here for the drinks\, the music\, or just to rock your most outrageous sweater\, this is the holiday soirée you won’t want to miss! \nLive Music performed by Ryan Sutherland. \nNo reservations are required\, and it is free to attend. MUST wear a tacky sweater!
URL:https://mfwineriesdistilleries.com/event/tacky-tinsel-and-tinis/
LOCATION:Idol Ridge Winery\, 9059 State Route 414\, Lodi\, NY\, 14860\, United States
CATEGORIES:Alder Creek Distillery,Idol Ridge
ATTACH;FMTTYPE=image/png:https://mfwineriesdistilleries.com/wp-content/uploads/2025/11/Tacky-Tinsel-and-Tinis.png
END:VEVENT
END:VCALENDAR