BEGIN:VCALENDAR
VERSION:2.0
PRODID:-//Martin Family Wineries &amp; Distilleries - ECPv6.15.17.1//NONSGML v1.0//EN
CALSCALE:GREGORIAN
METHOD:PUBLISH
X-WR-CALNAME:Martin Family Wineries &amp; Distilleries
X-ORIGINAL-URL:https://mfwineriesdistilleries.com
X-WR-CALDESC:Events for Martin Family Wineries &amp; Distilleries
REFRESH-INTERVAL;VALUE=DURATION:PT1H
X-Robots-Tag:noindex
X-PUBLISHED-TTL:PT1H
BEGIN:VTIMEZONE
TZID:America/New_York
BEGIN:DAYLIGHT
TZOFFSETFROM:-0500
TZOFFSETTO:-0400
TZNAME:EDT
DTSTART:20240310T070000
END:DAYLIGHT
BEGIN:STANDARD
TZOFFSETFROM:-0400
TZOFFSETTO:-0500
TZNAME:EST
DTSTART:20241103T060000
END:STANDARD
BEGIN:DAYLIGHT
TZOFFSETFROM:-0500
TZOFFSETTO:-0400
TZNAME:EDT
DTSTART:20250309T070000
END:DAYLIGHT
BEGIN:STANDARD
TZOFFSETFROM:-0400
TZOFFSETTO:-0500
TZNAME:EST
DTSTART:20251102T060000
END:STANDARD
BEGIN:DAYLIGHT
TZOFFSETFROM:-0500
TZOFFSETTO:-0400
TZNAME:EDT
DTSTART:20260308T070000
END:DAYLIGHT
BEGIN:STANDARD
TZOFFSETFROM:-0400
TZOFFSETTO:-0500
TZNAME:EST
DTSTART:20261101T060000
END:STANDARD
END:VTIMEZONE
BEGIN:VEVENT
DTSTART;TZID=America/New_York:20250802T090000
DTEND;TZID=America/New_York:20250802T120000
DTSTAMP:20260424T041006
CREATED:20250723T130129Z
LAST-MODIFIED:20250723T131615Z
UID:10001361-1754125200-1754136000@mfwineriesdistilleries.com
SUMMARY:Barn Quilt Painting Workshop
DESCRIPTION:Join Sara from Little Red Farmette in Holland Patent and paint your own exterior barn quilt sign here in our tasting room on August 2nd! Your $70 workshop fee includes:\n\n 2’x2′ or 1’x3′ exterior signboard\, primed and pre-drawn with the pattern of your choice exterior paint colors of your choiceuse of all of the materials you will need to complete your barn quilt sign individual support and guidance to lead you through the process of creating your painted masterpiece that will be a beautiful addition to your home\, camp\, shed or (of course!) barn–inside or out! First drink\nSeating is limited and pre-registration and $20 deposit are required.\n\n\nPurchase Tickets Here\n\n\n\n 
URL:https://mfwineriesdistilleries.com/event/barn-quilt-painting-workshop/
LOCATION:NY
CATEGORIES:Montezuma Cooperstown
ATTACH;FMTTYPE=image/png:https://mfwineriesdistilleries.com/wp-content/uploads/2025/07/CT-MF_Website-Graphic-Template-3.png
END:VEVENT
BEGIN:VEVENT
DTSTART;TZID=America/New_York:20250807T180000
DTEND;TZID=America/New_York:20250807T200000
DTSTAMP:20260424T041006
CREATED:20250515T191802Z
LAST-MODIFIED:20250731T153536Z
UID:10000501-1754589600-1754596800@mfwineriesdistilleries.com
SUMMARY:Line Dancing Class
DESCRIPTION:Get ready to shake and groove as Dorothy from Empower Fitnezz brings her Line Dancing class to Montezuma Winery Cooperstown! Whether you’re a seasoned dancer or a beginner\, this session will leave you feeling energized and inspired.\n\nThere will be $20 cover charge at the door that includes line dancing and a choice of a slushie\, wine tasting\, or spirit tasting.\n\nWhy You Should Come:• Dance your heart out while getting a great workout!• Enjoy refreshing slushies\, wines\, and spirits before/after or during the session.• Meet new friends and be part of a vibrant community.\n\nAll levels welcome. No experience required!\n\nMark your calendars and come ready to move!
URL:https://mfwineriesdistilleries.com/event/line-dancing-class-2/
LOCATION:Montezuma Winery Cooperstown\, 4841 NY-28\, Cooperstown\, NY\, 13326\, United States
CATEGORIES:Montezuma Cooperstown
ATTACH;FMTTYPE=image/png:https://mfwineriesdistilleries.com/wp-content/uploads/2025/05/CT_LineDancing.png
END:VEVENT
BEGIN:VEVENT
DTSTART;TZID=America/New_York:20250807T180000
DTEND;TZID=America/New_York:20250807T200000
DTSTAMP:20260424T041006
CREATED:20250804T151928Z
LAST-MODIFIED:20250804T152054Z
UID:10000673-1754589600-1754596800@mfwineriesdistilleries.com
SUMMARY:Summer Sips & Sounds Music Series
DESCRIPTION:Each week\, we’re bringing you a new music act that you can enjoy while sipping on your favorite wines & spirits! Our kitchen will also be open for pizzas\, paninis\, & more! \n\nCheck out our current music lineup: June 19th: Amy Lynn TrioJune 26th: Just Us BandJuly 3rd : Patrick YoungJuly 10th: Mr. Monkey (duo)July 17th: John Rogalia (duo)July 19th: David Graybeard BandJuly 24th: Dick EldredgeJuly 31st: Sam NitschAugust 7th: Midnight StormAugust 14th: Restless (music will start at 5:30pm)
URL:https://mfwineriesdistilleries.com/event/summer-sips-sounds-music-series-2-2/
LOCATION:NY
CATEGORIES:Hidden Marsh Distillery,Montezuma Finger Lakes
ATTACH;FMTTYPE=image/png:https://mfwineriesdistilleries.com/wp-content/uploads/2025/05/MF_Website-Graphic-Template-35.png
END:VEVENT
BEGIN:VEVENT
DTSTART;TZID=America/New_York:20250810T090000
DTEND;TZID=America/New_York:20250810T180000
DTSTAMP:20260424T041006
CREATED:20250722T202441Z
LAST-MODIFIED:20250805T194010Z
UID:10001360-1754816400-1754848800@mfwineriesdistilleries.com
SUMMARY:Silly Goose Sunday
DESCRIPTION:Get ready to let loose and honk freely at our Silly Goose Sunday event where we will be celebrating silly wine with seriously good taste! \nJoin us for a day filled with:Sip on samples of our two new silly goose wines: Silly Goose-Secco & Duck Duck Lam-Goose-Co Live music from Amy Lynn Trio from 1pm-4pm Yard games for all ages Delicious food from Cousins Maine Food Truck from 10am-5pm Representatives from the Friends of the Montezuma Wildlife Complex will be in our tasting room to share volunteer opportunities and more! Our kitchen will also be open from 10am-5pm serving up fresh pizza\, toasty paninis\, and more!\n\nBring your friends\, enjoy the outdoors\, and spend a relaxing Sunday sipping and playing. No reservations required!
URL:https://mfwineriesdistilleries.com/event/silly-goose-sunday/
LOCATION:Montezuma Winery Finger Lakes\, 2981 US Route 20\, Seneca Falls\, NY\, United States
CATEGORIES:Montezuma Finger Lakes
ATTACH;FMTTYPE=image/png:https://mfwineriesdistilleries.com/wp-content/uploads/2025/07/FLX-HMD-MF_Website-Graphic-Template-3.png
END:VEVENT
BEGIN:VEVENT
DTSTART;TZID=America/New_York:20250812T183000
DTEND;TZID=America/New_York:20250812T200000
DTSTAMP:20260424T041006
CREATED:20250515T191433Z
LAST-MODIFIED:20250515T191433Z
UID:10000499-1755023400-1755028800@mfwineriesdistilleries.com
SUMMARY:Trivia Night
DESCRIPTION:Think you know it all? Time to prove it! Join us for an evening of trivia with our host\, April in our tasting room! No reservations are required to join in on the fun. We hope to see you there!
URL:https://mfwineriesdistilleries.com/event/trivia-night-5/
LOCATION:Montezuma Winery Cooperstown\, 4841 NY-28\, Cooperstown\, NY\, 13326\, United States
CATEGORIES:Montezuma Cooperstown
ATTACH;FMTTYPE=image/png:https://mfwineriesdistilleries.com/wp-content/uploads/2025/03/Trivia-Night_CT_April.png
END:VEVENT
BEGIN:VEVENT
DTSTART;TZID=America/New_York:20250814T180000
DTEND;TZID=America/New_York:20250814T200000
DTSTAMP:20260424T041006
CREATED:20250804T152945Z
LAST-MODIFIED:20250804T152945Z
UID:10001366-1755194400-1755201600@mfwineriesdistilleries.com
SUMMARY:Summer Sips & Sounds Music Series
DESCRIPTION:Each week\, we’re bringing you a new music act that you can enjoy while sipping on your favorite wines & spirits! Our kitchen will also be open for pizzas\, paninis\, & more! \n\nCheck out our current music lineup: June 19th: Amy Lynn TrioJune 26th: Just Us BandJuly 3rd : Patrick YoungJuly 10th: Mr. Monkey (duo)July 17th: John Rogalia (duo)July 19th: David Graybeard BandJuly 24th: Dick EldredgeJuly 31st: Sam NitschAugust 7th: Midnight StormAugust 14th: Restless (music will start at 5:30pm)
URL:https://mfwineriesdistilleries.com/event/summer-sips-sounds-music-series/
LOCATION:Montezuma Winery Finger Lakes\, 2981 US Route 20\, Seneca Falls\, NY\, United States
CATEGORIES:Hidden Marsh Distillery,Montezuma Finger Lakes
ATTACH;FMTTYPE=image/png:https://mfwineriesdistilleries.com/wp-content/uploads/2025/05/MF_Website-Graphic-Template-35.png
END:VEVENT
BEGIN:VEVENT
DTSTART;TZID=America/New_York:20250822T160000
DTEND;TZID=America/New_York:20250822T190000
DTSTAMP:20260424T041006
CREATED:20250724T170634Z
LAST-MODIFIED:20250724T171122Z
UID:10001362-1755878400-1755889200@mfwineriesdistilleries.com
SUMMARY:Bring Your Own Game Night
DESCRIPTION:Join us for a relaxed evening of games\, wine\, and great food here at Swedish Hill Winery.  Bring your favorite board games\, card games\, or party games to play with friends\, or make new ones. No reservations are required\, just good vibes and good times!
URL:https://mfwineriesdistilleries.com/event/bring-your-own-game-night-2/
LOCATION:Swedish Hill\, 4565 State Route 414\, Romulus\, NY\, 14541\, United States
CATEGORIES:Swedish Hill Winery & Vineyard
ATTACH;FMTTYPE=image/png:https://mfwineriesdistilleries.com/wp-content/uploads/2025/07/SH-MF_Website-Graphic-Template-2.png
END:VEVENT
END:VCALENDAR